BEGIN:VCALENDAR
VERSION:2.0
PRODID:-//Village of Almond - ECPv6.15.20//NONSGML v1.0//EN
CALSCALE:GREGORIAN
METHOD:PUBLISH
X-ORIGINAL-URL:https://villageofalmondwi.gov
X-WR-CALDESC:Events for Village of Almond
REFRESH-INTERVAL;VALUE=DURATION:PT1H
X-Robots-Tag:noindex
X-PUBLISHED-TTL:PT1H
BEGIN:VTIMEZONE
TZID:UTC
BEGIN:STANDARD
TZOFFSETFROM:+0000
TZOFFSETTO:+0000
TZNAME:UTC
DTSTART:20180101T000000
END:STANDARD
END:VTIMEZONE
BEGIN:VEVENT
DTSTART;TZID=UTC:20190414T090000
DTEND;TZID=UTC:20190414T120000
DTSTAMP:20260424T172107
CREATED:20190405T151641Z
LAST-MODIFIED:20190405T151641Z
UID:810-1555232400-1555243200@villageofalmondwi.gov
SUMMARY:All You Can Eat Pancake & Scramble Egg Breakfast April 14\, 2019
DESCRIPTION:Serving 9 am to 12 noon. Buttermilk and potato pancakes\, scrambled eggs\,apple sauce\,sausage links\, juice and donut holes\, coffee and milk.  Adults 7.00\, Children 5-12 years $4.00 and children 4 and under free.  Sponsored by Almond American Legion Post 339.\nAmerican Legion Hall corner of 4th and Division St. Village of Almond.
URL:https://villageofalmondwi.gov/event/all-you-can-eat-pancake-scramble-egg-breakfast-april-14-2019/
LOCATION:Legion Club House
END:VEVENT
END:VCALENDAR