BEGIN:VCALENDAR
VERSION:2.0
PRODID:-//Village of Almond - ECPv6.15.20//NONSGML v1.0//EN
CALSCALE:GREGORIAN
METHOD:PUBLISH
X-WR-CALNAME:Village of Almond
X-ORIGINAL-URL:https://villageofalmondwi.gov
X-WR-CALDESC:Events for Village of Almond
REFRESH-INTERVAL;VALUE=DURATION:PT1H
X-Robots-Tag:noindex
X-PUBLISHED-TTL:PT1H
BEGIN:VTIMEZONE
TZID:UTC
BEGIN:STANDARD
TZOFFSETFROM:+0000
TZOFFSETTO:+0000
TZNAME:UTC
DTSTART:20180101T000000
END:STANDARD
END:VTIMEZONE
BEGIN:VEVENT
DTSTART;TZID=UTC:20190529T180000
DTEND;TZID=UTC:20190529T190000
DTSTAMP:20260424T142357
CREATED:20190520T234720Z
LAST-MODIFIED:20190520T234720Z
UID:825-1559152800-1559156400@villageofalmondwi.gov
SUMMARY:Equipment Committee Meeting
DESCRIPTION:Discussion and recommendation on purchase of heavy duty bucket for the tractor.
URL:https://villageofalmondwi.gov/event/equipment-committee-meeting/
LOCATION:Village Municipal Building\, Almond\, WI\, 54921\, United States
END:VEVENT
END:VCALENDAR