BEGIN:VCALENDAR
VERSION:2.0
PRODID:-//Village of Almond - ECPv6.15.20//NONSGML v1.0//EN
CALSCALE:GREGORIAN
METHOD:PUBLISH
X-WR-CALNAME:Village of Almond
X-ORIGINAL-URL:https://villageofalmondwi.gov
X-WR-CALDESC:Events for Village of Almond
REFRESH-INTERVAL;VALUE=DURATION:PT1H
X-Robots-Tag:noindex
X-PUBLISHED-TTL:PT1H
BEGIN:VTIMEZONE
TZID:UTC
BEGIN:STANDARD
TZOFFSETFROM:+0000
TZOFFSETTO:+0000
TZNAME:UTC
DTSTART:20210101T000000
END:STANDARD
END:VTIMEZONE
BEGIN:VEVENT
DTSTART;TZID=UTC:20220404T170000
DTEND;TZID=UTC:20220404T173000
DTSTAMP:20260422T065037
CREATED:20220401T200942Z
LAST-MODIFIED:20220401T200942Z
UID:1629-1649091600-1649093400@villageofalmondwi.gov
SUMMARY:Personnel Committee Meeting
DESCRIPTION:
URL:https://villageofalmondwi.gov/event/personnel-committee-meeting-3/
LOCATION:Village Municipal Building\, Almond\, WI\, 54921\, United States
END:VEVENT
BEGIN:VEVENT
DTSTART;TZID=UTC:20220404T173000
DTEND;TZID=UTC:20220404T180000
DTSTAMP:20260422T065037
CREATED:20220401T201030Z
LAST-MODIFIED:20220401T201030Z
UID:1631-1649093400-1649095200@villageofalmondwi.gov
SUMMARY:Fire/EMS Committee Meeting
DESCRIPTION:
URL:https://villageofalmondwi.gov/event/fire-ems-committee-meeting/
LOCATION:Village Municipal Building\, Almond\, WI\, 54921\, United States
END:VEVENT
END:VCALENDAR