BEGIN:VCALENDAR
VERSION:2.0
PRODID:-//Village of Almond - ECPv6.15.20//NONSGML v1.0//EN
CALSCALE:GREGORIAN
METHOD:PUBLISH
X-ORIGINAL-URL:https://villageofalmondwi.gov
X-WR-CALDESC:Events for Village of Almond
REFRESH-INTERVAL;VALUE=DURATION:PT1H
X-Robots-Tag:noindex
X-PUBLISHED-TTL:PT1H
BEGIN:VTIMEZONE
TZID:UTC
BEGIN:STANDARD
TZOFFSETFROM:+0000
TZOFFSETTO:+0000
TZNAME:UTC
DTSTART:20210101T000000
END:STANDARD
END:VTIMEZONE
BEGIN:VEVENT
DTSTART;TZID=UTC:20220419T123000
DTEND;TZID=UTC:20220419T143000
DTSTAMP:20260422T065119
CREATED:20220315T210829Z
LAST-MODIFIED:20220404T230539Z
UID:1608-1650371400-1650378600@villageofalmondwi.gov
SUMMARY:Open Book
DESCRIPTION:
URL:https://villageofalmondwi.gov/event/open-book-4/
LOCATION:Village Municipal Building\, Almond\, WI\, 54921\, United States
END:VEVENT
END:VCALENDAR