BEGIN:VCALENDAR
VERSION:2.0
PRODID:-//Village of Almond - ECPv6.15.20//NONSGML v1.0//EN
CALSCALE:GREGORIAN
METHOD:PUBLISH
X-ORIGINAL-URL:https://villageofalmondwi.gov
X-WR-CALDESC:Events for Village of Almond
REFRESH-INTERVAL;VALUE=DURATION:PT1H
X-Robots-Tag:noindex
X-PUBLISHED-TTL:PT1H
BEGIN:VTIMEZONE
TZID:UTC
BEGIN:STANDARD
TZOFFSETFROM:+0000
TZOFFSETTO:+0000
TZNAME:UTC
DTSTART:20210101T000000
END:STANDARD
END:VTIMEZONE
BEGIN:VEVENT
DTSTART;TZID=UTC:20221221T190000
DTEND;TZID=UTC:20221221T190000
DTSTAMP:20260421T170306
CREATED:20221220T012941Z
LAST-MODIFIED:20221220T012941Z
UID:1828-1671649200-1671649200@villageofalmondwi.gov
SUMMARY:Town and Village of Almond Joint Fire Committee Meeting
DESCRIPTION:
URL:https://villageofalmondwi.gov/event/town-and-village-of-almond-joint-fire-committee-meeting/
LOCATION:Almond Fire Department Headquarters\, Main Street\, Almond\, 54909\, United States
END:VEVENT
END:VCALENDAR