BEGIN:VCALENDAR
VERSION:2.0
PRODID:-//Village of Almond - ECPv6.15.20//NONSGML v1.0//EN
CALSCALE:GREGORIAN
METHOD:PUBLISH
X-ORIGINAL-URL:https://villageofalmondwi.gov
X-WR-CALDESC:Events for Village of Almond
REFRESH-INTERVAL;VALUE=DURATION:PT1H
X-Robots-Tag:noindex
X-PUBLISHED-TTL:PT1H
BEGIN:VTIMEZONE
TZID:UTC
BEGIN:STANDARD
TZOFFSETFROM:+0000
TZOFFSETTO:+0000
TZNAME:UTC
DTSTART:20220101T000000
END:STANDARD
END:VTIMEZONE
BEGIN:VEVENT
DTSTART;TZID=UTC:20230313T170000
DTEND;TZID=UTC:20230313T190000
DTSTAMP:20260421T113636
CREATED:20230208T010751Z
LAST-MODIFIED:20230208T010751Z
UID:1855-1678726800-1678734000@villageofalmondwi.gov
SUMMARY:Village Board Meeting
DESCRIPTION:
URL:https://villageofalmondwi.gov/event/village-board-meeting-30/
LOCATION:Village Municipal Building\, Almond\, WI\, 54921\, United States
END:VEVENT
END:VCALENDAR