BEGIN:VCALENDAR
VERSION:2.0
PRODID:-//Village of Almond - ECPv6.15.20//NONSGML v1.0//EN
CALSCALE:GREGORIAN
METHOD:PUBLISH
X-WR-CALNAME:Village of Almond
X-ORIGINAL-URL:https://villageofalmondwi.gov
X-WR-CALDESC:Events for Village of Almond
REFRESH-INTERVAL;VALUE=DURATION:PT1H
X-Robots-Tag:noindex
X-PUBLISHED-TTL:PT1H
BEGIN:VTIMEZONE
TZID:UTC
BEGIN:STANDARD
TZOFFSETFROM:+0000
TZOFFSETTO:+0000
TZNAME:UTC
DTSTART:20230101T000000
END:STANDARD
END:VTIMEZONE
BEGIN:VEVENT
DTSTART;TZID=UTC:20241014T170000
DTEND;TZID=UTC:20241014T190000
DTSTAMP:20260420T020157
CREATED:20240910T201337Z
LAST-MODIFIED:20240910T201337Z
UID:2320-1728925200-1728932400@villageofalmondwi.gov
SUMMARY:Village Board Meeting
DESCRIPTION:
URL:https://villageofalmondwi.gov/event/village-board-meeting-40/
END:VEVENT
END:VCALENDAR