BEGIN:VCALENDAR
VERSION:2.0
PRODID:-//Village of Almond - ECPv6.15.20//NONSGML v1.0//EN
CALSCALE:GREGORIAN
METHOD:PUBLISH
X-WR-CALNAME:Village of Almond
X-ORIGINAL-URL:https://villageofalmondwi.gov
X-WR-CALDESC:Events for Village of Almond
REFRESH-INTERVAL;VALUE=DURATION:PT1H
X-Robots-Tag:noindex
X-PUBLISHED-TTL:PT1H
BEGIN:VTIMEZONE
TZID:UTC
BEGIN:STANDARD
TZOFFSETFROM:+0000
TZOFFSETTO:+0000
TZNAME:UTC
DTSTART:20230101T000000
END:STANDARD
END:VTIMEZONE
BEGIN:VEVENT
DTSTART;TZID=UTC:20241016T173000
DTEND;TZID=UTC:20241016T193000
DTSTAMP:20260420T020159
CREATED:20240910T201252Z
LAST-MODIFIED:20240910T201252Z
UID:2318-1729099800-1729107000@villageofalmondwi.gov
SUMMARY:Budget Workshop
DESCRIPTION:
URL:https://villageofalmondwi.gov/event/budget-workshop-3/
LOCATION:Village Municipal Building\, Almond\, WI\, 54921\, United States
END:VEVENT
END:VCALENDAR