BEGIN:VCALENDAR
VERSION:2.0
PRODID:-//Village of Almond - ECPv6.15.20//NONSGML v1.0//EN
CALSCALE:GREGORIAN
METHOD:PUBLISH
X-WR-CALNAME:Village of Almond
X-ORIGINAL-URL:https://villageofalmondwi.gov
X-WR-CALDESC:Events for Village of Almond
REFRESH-INTERVAL;VALUE=DURATION:PT1H
X-Robots-Tag:noindex
X-PUBLISHED-TTL:PT1H
BEGIN:VTIMEZONE
TZID:UTC
BEGIN:STANDARD
TZOFFSETFROM:+0000
TZOFFSETTO:+0000
TZNAME:UTC
DTSTART:20230101T000000
END:STANDARD
END:VTIMEZONE
BEGIN:VEVENT
DTSTART;TZID=UTC:20241111T170000
DTEND;TZID=UTC:20241111T180000
DTSTAMP:20260420T000741
CREATED:20241023T205051Z
LAST-MODIFIED:20241023T205051Z
UID:2351-1731344400-1731348000@villageofalmondwi.gov
SUMMARY:Village Board Meeting
DESCRIPTION:
URL:https://villageofalmondwi.gov/event/village-board-meeting-41/
LOCATION:Village Municipal Building\, Almond\, WI\, 54921\, United States
END:VEVENT
BEGIN:VEVENT
DTSTART;TZID=UTC:20241111T180000
DTEND;TZID=UTC:20241111T183000
DTSTAMP:20260420T000741
CREATED:20241023T205135Z
LAST-MODIFIED:20241023T205135Z
UID:2353-1731348000-1731349800@villageofalmondwi.gov
SUMMARY:Village of Almond Budget Hearing
DESCRIPTION:
URL:https://villageofalmondwi.gov/event/village-of-almond-budget-hearing/
END:VEVENT
END:VCALENDAR