BEGIN:VCALENDAR
VERSION:2.0
PRODID:-//Village of Almond - ECPv6.15.20//NONSGML v1.0//EN
CALSCALE:GREGORIAN
METHOD:PUBLISH
X-ORIGINAL-URL:https://villageofalmondwi.gov
X-WR-CALDESC:Events for Village of Almond
REFRESH-INTERVAL;VALUE=DURATION:PT1H
X-Robots-Tag:noindex
X-PUBLISHED-TTL:PT1H
BEGIN:VTIMEZONE
TZID:UTC
BEGIN:STANDARD
TZOFFSETFROM:+0000
TZOFFSETTO:+0000
TZNAME:UTC
DTSTART:20180101T000000
END:STANDARD
END:VTIMEZONE
BEGIN:VEVENT
DTSTART;TZID=UTC:20190213T200000
DTEND;TZID=UTC:20190213T213000
DTSTAMP:20260424T185122
CREATED:20190209T191628Z
LAST-MODIFIED:20190209T191628Z
UID:771-1550088000-1550093400@villageofalmondwi.gov
SUMMARY:Village Board Meeting
DESCRIPTION:
URL:https://villageofalmondwi.gov/event/village-board-meeting-3/
LOCATION:Village Municipal Building\, Almond\, WI\, 54921\, United States
END:VEVENT
BEGIN:VEVENT
DTSTART;TZID=UTC:20190218T190000
DTEND;TZID=UTC:20190218T203000
DTSTAMP:20260424T185122
CREATED:20190209T191846Z
LAST-MODIFIED:20190209T191846Z
UID:773-1550516400-1550521800@villageofalmondwi.gov
SUMMARY:Almond Legion Meeting
DESCRIPTION:
URL:https://villageofalmondwi.gov/event/almond-legion-meeting-2/
LOCATION:Legion Club House
END:VEVENT
BEGIN:VEVENT
DTSTART;TZID=UTC:20190218T190000
DTEND;TZID=UTC:20190218T210000
DTSTAMP:20260424T185122
CREATED:20190209T191953Z
LAST-MODIFIED:20190209T191953Z
UID:775-1550516400-1550523600@villageofalmondwi.gov
SUMMARY:Almond Lions Club Meeting
DESCRIPTION:
URL:https://villageofalmondwi.gov/event/almond-lions-club-meeting-2/
LOCATION:Village Municipal Building\, Almond\, WI\, 54921\, United States
END:VEVENT
END:VCALENDAR