BEGIN:VCALENDAR
VERSION:2.0
PRODID:-//Village of Almond - ECPv6.15.20//NONSGML v1.0//EN
CALSCALE:GREGORIAN
METHOD:PUBLISH
X-ORIGINAL-URL:https://villageofalmondwi.gov
X-WR-CALDESC:Events for Village of Almond
REFRESH-INTERVAL;VALUE=DURATION:PT1H
X-Robots-Tag:noindex
X-PUBLISHED-TTL:PT1H
BEGIN:VTIMEZONE
TZID:UTC
BEGIN:STANDARD
TZOFFSETFROM:+0000
TZOFFSETTO:+0000
TZNAME:UTC
DTSTART:20190101T000000
END:STANDARD
END:VTIMEZONE
BEGIN:VEVENT
DTSTART;TZID=UTC:20201006T190000
DTEND;TZID=UTC:20201006T190000
DTSTAMP:20260423T120214
CREATED:20200930T000001Z
LAST-MODIFIED:20200930T040125Z
UID:1193-1602010800-1602010800@villageofalmondwi.gov
SUMMARY:Joint Fire Department Meeting
DESCRIPTION:
URL:https://villageofalmondwi.gov/event/joint-fire-department-meeting/
END:VEVENT
BEGIN:VEVENT
DTSTART;TZID=UTC:20201012T190000
DTEND;TZID=UTC:20201012T190000
DTSTAMP:20260423T120214
CREATED:20200916T212510Z
LAST-MODIFIED:20200916T212634Z
UID:1180-1602529200-1602529200@villageofalmondwi.gov
SUMMARY:Village Board Meeting
DESCRIPTION:
URL:https://villageofalmondwi.gov/event/village-board-meeting-11/
LOCATION:Village Municipal Building\, Almond\, WI\, 54921\, United States
END:VEVENT
BEGIN:VEVENT
DTSTART;TZID=UTC:20201015T180000
DTEND;TZID=UTC:20201015T180000
DTSTAMP:20260423T120214
CREATED:20200916T212803Z
LAST-MODIFIED:20200916T212803Z
UID:1182-1602784800-1602784800@villageofalmondwi.gov
SUMMARY:Budget Workshop
DESCRIPTION:
URL:https://villageofalmondwi.gov/event/budget-workshop/
LOCATION:Village Municipal Building\, Almond\, WI\, 54921\, United States
END:VEVENT
END:VCALENDAR