BEGIN:VCALENDAR
VERSION:2.0
PRODID:-//Village of Almond - ECPv6.15.20//NONSGML v1.0//EN
CALSCALE:GREGORIAN
METHOD:PUBLISH
X-ORIGINAL-URL:https://villageofalmondwi.gov
X-WR-CALDESC:Events for Village of Almond
REFRESH-INTERVAL;VALUE=DURATION:PT1H
X-Robots-Tag:noindex
X-PUBLISHED-TTL:PT1H
BEGIN:VTIMEZONE
TZID:UTC
BEGIN:STANDARD
TZOFFSETFROM:+0000
TZOFFSETTO:+0000
TZNAME:UTC
DTSTART:20190101T000000
END:STANDARD
END:VTIMEZONE
BEGIN:VEVENT
DTSTART;VALUE=DATE:20201214
DTEND;VALUE=DATE:20201215
DTSTAMP:20260423T084042
CREATED:20201210T014614Z
LAST-MODIFIED:20201210T015702Z
UID:1224-1607904000-1607990399@villageofalmondwi.gov
SUMMARY:Village Board Meeting
DESCRIPTION:
URL:https://villageofalmondwi.gov/event/village-board-meeting-12-14-2020/
LOCATION:Village Municipal Building\, Almond\, WI\, 54921\, United States
END:VEVENT
END:VCALENDAR