BEGIN:VCALENDAR
VERSION:2.0
PRODID:-//Village of Almond - ECPv6.15.20//NONSGML v1.0//EN
CALSCALE:GREGORIAN
METHOD:PUBLISH
X-WR-CALNAME:Village of Almond
X-ORIGINAL-URL:https://villageofalmondwi.gov
X-WR-CALDESC:Events for Village of Almond
REFRESH-INTERVAL;VALUE=DURATION:PT1H
X-Robots-Tag:noindex
X-PUBLISHED-TTL:PT1H
BEGIN:VTIMEZONE
TZID:UTC
BEGIN:STANDARD
TZOFFSETFROM:+0000
TZOFFSETTO:+0000
TZNAME:UTC
DTSTART:20200101T000000
END:STANDARD
END:VTIMEZONE
BEGIN:VEVENT
DTSTART;TZID=UTC:20210510T190000
DTEND;TZID=UTC:20210510T200000
DTSTAMP:20260423T000711
CREATED:20210427T211103Z
LAST-MODIFIED:20210427T211103Z
UID:1367-1620673200-1620676800@villageofalmondwi.gov
SUMMARY:Village Board Meeting
DESCRIPTION:
URL:https://villageofalmondwi.gov/event/village-board-meeting-16/
LOCATION:Village Municipal Building\, Almond\, WI\, 54921\, United States
END:VEVENT
BEGIN:VEVENT
DTSTART;TZID=UTC:20210525T190000
DTEND;TZID=UTC:20210525T190000
DTSTAMP:20260423T000711
CREATED:20210521T213118Z
LAST-MODIFIED:20210521T213118Z
UID:1393-1621969200-1621969200@villageofalmondwi.gov
SUMMARY:Town and Village of Almond Fire Department Meeting
DESCRIPTION:
URL:https://villageofalmondwi.gov/event/town-and-village-of-almond-fire-department-meeting/
LOCATION:Almond Fire Department Headquarters\, Main Street\, Almond\, 54909\, United States
END:VEVENT
END:VCALENDAR