BEGIN:VCALENDAR
VERSION:2.0
PRODID:-//Village of Almond - ECPv6.15.20//NONSGML v1.0//EN
CALSCALE:GREGORIAN
METHOD:PUBLISH
X-ORIGINAL-URL:https://villageofalmondwi.gov
X-WR-CALDESC:Events for Village of Almond
REFRESH-INTERVAL;VALUE=DURATION:PT1H
X-Robots-Tag:noindex
X-PUBLISHED-TTL:PT1H
BEGIN:VTIMEZONE
TZID:UTC
BEGIN:STANDARD
TZOFFSETFROM:+0000
TZOFFSETTO:+0000
TZNAME:UTC
DTSTART:20210101T000000
END:STANDARD
END:VTIMEZONE
BEGIN:VEVENT
DTSTART;TZID=UTC:20220509T153000
DTEND;TZID=UTC:20220509T173000
DTSTAMP:20260422T030953
CREATED:20220315T210906Z
LAST-MODIFIED:20220315T210906Z
UID:1610-1652110200-1652117400@villageofalmondwi.gov
SUMMARY:Board of Review
DESCRIPTION:
URL:https://villageofalmondwi.gov/event/board-of-review-3/
END:VEVENT
BEGIN:VEVENT
DTSTART;TZID=UTC:20220509T170000
DTEND;TZID=UTC:20220509T180000
DTSTAMP:20260422T030953
CREATED:20220426T193817Z
LAST-MODIFIED:20220426T193817Z
UID:1658-1652115600-1652119200@villageofalmondwi.gov
SUMMARY:Village Board Meeting
DESCRIPTION:
URL:https://villageofalmondwi.gov/event/village-board-meeting-25/
LOCATION:Village Municipal Building\, Almond\, WI\, 54921\, United States
END:VEVENT
END:VCALENDAR