BEGIN:VCALENDAR
VERSION:2.0
PRODID:-//Village of Almond - ECPv6.15.20//NONSGML v1.0//EN
CALSCALE:GREGORIAN
METHOD:PUBLISH
X-ORIGINAL-URL:https://villageofalmondwi.gov
X-WR-CALDESC:Events for Village of Almond
REFRESH-INTERVAL;VALUE=DURATION:PT1H
X-Robots-Tag:noindex
X-PUBLISHED-TTL:PT1H
BEGIN:VTIMEZONE
TZID:UTC
BEGIN:STANDARD
TZOFFSETFROM:+0000
TZOFFSETTO:+0000
TZNAME:UTC
DTSTART:20210101T000000
END:STANDARD
END:VTIMEZONE
BEGIN:VEVENT
DTSTART;TZID=UTC:20220808T170000
DTEND;TZID=UTC:20220808T170000
DTSTAMP:20260421T220651
CREATED:20220803T001743Z
LAST-MODIFIED:20220803T001743Z
UID:1725-1659978000-1659978000@villageofalmondwi.gov
SUMMARY:Village Board Meeting
DESCRIPTION:
URL:https://villageofalmondwi.gov/event/village-board-meeting-27/
LOCATION:Village Municipal Building\, Almond\, WI\, 54921\, United States
END:VEVENT
BEGIN:VEVENT
DTSTART;TZID=UTC:20220815T170000
DTEND;TZID=UTC:20220815T180000
DTSTAMP:20260421T220651
CREATED:20220809T224858Z
LAST-MODIFIED:20220809T224858Z
UID:1733-1660582800-1660586400@villageofalmondwi.gov
SUMMARY:Equipment Committee Meeting
DESCRIPTION:
URL:https://villageofalmondwi.gov/event/equipment-committee-meeting-2/
LOCATION:Village Municipal Building\, Almond\, WI\, 54921\, United States
END:VEVENT
BEGIN:VEVENT
DTSTART;TZID=UTC:20220830T190000
DTEND;TZID=UTC:20220830T200000
DTSTAMP:20260421T220651
CREATED:20220816T231756Z
LAST-MODIFIED:20220816T231756Z
UID:1742-1661886000-1661889600@villageofalmondwi.gov
SUMMARY:Town and Village of Almond Joint Fire Department Meeting
DESCRIPTION:
URL:https://villageofalmondwi.gov/event/town-and-village-of-almond-joint-fire-department-meeting/
LOCATION:Almond Fire Department Headquarters\, Main Street\, Almond\, 54909\, United States
END:VEVENT
END:VCALENDAR