BEGIN:VCALENDAR
VERSION:2.0
PRODID:-//Village of Almond - ECPv6.15.20//NONSGML v1.0//EN
CALSCALE:GREGORIAN
METHOD:PUBLISH
X-ORIGINAL-URL:https://villageofalmondwi.gov
X-WR-CALDESC:Events for Village of Almond
REFRESH-INTERVAL;VALUE=DURATION:PT1H
X-Robots-Tag:noindex
X-PUBLISHED-TTL:PT1H
BEGIN:VTIMEZONE
TZID:UTC
BEGIN:STANDARD
TZOFFSETFROM:+0000
TZOFFSETTO:+0000
TZNAME:UTC
DTSTART:20220101T000000
END:STANDARD
END:VTIMEZONE
BEGIN:VEVENT
DTSTART;TZID=UTC:20230508T160000
DTEND;TZID=UTC:20230508T180000
DTSTAMP:20260421T062152
CREATED:20230208T010905Z
LAST-MODIFIED:20230208T010905Z
UID:1859-1683561600-1683568800@villageofalmondwi.gov
SUMMARY:Board of Review
DESCRIPTION:
URL:https://villageofalmondwi.gov/event/board-of-review-4/
LOCATION:Village Municipal Building\, Almond\, WI\, 54921\, United States
END:VEVENT
BEGIN:VEVENT
DTSTART;TZID=UTC:20230508T170000
DTEND;TZID=UTC:20230508T190000
DTSTAMP:20260421T062152
CREATED:20230208T010934Z
LAST-MODIFIED:20230208T010934Z
UID:1861-1683565200-1683572400@villageofalmondwi.gov
SUMMARY:Village Board Meeting
DESCRIPTION:
URL:https://villageofalmondwi.gov/event/village-board-meeting-32/
END:VEVENT
END:VCALENDAR