BEGIN:VCALENDAR
VERSION:2.0
PRODID:-//Village of Almond - ECPv6.15.20//NONSGML v1.0//EN
CALSCALE:GREGORIAN
METHOD:PUBLISH
X-WR-CALNAME:Village of Almond
X-ORIGINAL-URL:https://villageofalmondwi.gov
X-WR-CALDESC:Events for Village of Almond
REFRESH-INTERVAL;VALUE=DURATION:PT1H
X-Robots-Tag:noindex
X-PUBLISHED-TTL:PT1H
BEGIN:VTIMEZONE
TZID:UTC
BEGIN:STANDARD
TZOFFSETFROM:+0000
TZOFFSETTO:+0000
TZNAME:UTC
DTSTART:20230101T000000
END:STANDARD
END:VTIMEZONE
BEGIN:VEVENT
DTSTART;TZID=UTC:20240402T070000
DTEND;TZID=UTC:20240402T200000
DTSTAMP:20260420T103929
CREATED:20240117T211629Z
LAST-MODIFIED:20240117T211629Z
UID:2113-1712041200-1712088000@villageofalmondwi.gov
SUMMARY:Spring Election
DESCRIPTION:
URL:https://villageofalmondwi.gov/event/spring-election-2/
END:VEVENT
BEGIN:VEVENT
DTSTART;TZID=UTC:20240404T170000
DTEND;TZID=UTC:20240404T170000
DTSTAMP:20260420T103929
CREATED:20240402T235626Z
LAST-MODIFIED:20240402T235626Z
UID:2177-1712250000-1712250000@villageofalmondwi.gov
SUMMARY:Personnel Committee Meeting
DESCRIPTION:
URL:https://villageofalmondwi.gov/event/personnel-committee-meeting-4/
LOCATION:Village Municipal Building\, Almond\, WI\, 54921\, United States
END:VEVENT
BEGIN:VEVENT
DTSTART;TZID=UTC:20240408T170000
DTEND;TZID=UTC:20240408T170000
DTSTAMP:20260420T103929
CREATED:20240117T211442Z
LAST-MODIFIED:20240117T211442Z
UID:2111-1712595600-1712595600@villageofalmondwi.gov
SUMMARY:Village Board Meeting
DESCRIPTION:
URL:https://villageofalmondwi.gov/event/village-board-meeting-35/
END:VEVENT
BEGIN:VEVENT
DTSTART;TZID=UTC:20240411T050000
DTEND;TZID=UTC:20240411T190000
DTSTAMP:20260420T103929
CREATED:20240409T222622Z
LAST-MODIFIED:20240409T222806Z
UID:2197-1712811600-1712862000@villageofalmondwi.gov
SUMMARY:Village Board Meeting
DESCRIPTION:
URL:https://villageofalmondwi.gov/event/village-board-meeting-37/
LOCATION:Village Municipal Building\, Almond\, WI\, 54921\, United States
END:VEVENT
BEGIN:VEVENT
DTSTART;TZID=UTC:20240416T190000
DTEND;TZID=UTC:20240416T190000
DTSTAMP:20260420T103929
CREATED:20240411T010713Z
LAST-MODIFIED:20240411T010713Z
UID:2211-1713294000-1713294000@villageofalmondwi.gov
SUMMARY:Town and Village of Almond Joint Fire Department Meeting 4/16/2024
DESCRIPTION:
URL:https://villageofalmondwi.gov/event/town-and-village-of-almond-joint-fire-department-meeting-4-16-2024/
END:VEVENT
END:VCALENDAR